BEGIN:VCALENDAR
VERSION:2.0
PRODID:-//Jagsttalbahn//Termine//DE
CALSCALE:GREGORIAN
BEGIN:VEVENT
UID:diesel-fahrtag-zur-jagsttal-wiesen-wanderung@jagsttalbahn.de
DTSTAMP:20260420T111458Z
DTSTART:20260509T090000Z
DTEND:20260509T150000Z
SUMMARY:Diesel-Fahrtag zur Jagsttal-Wiesen-Wanderung
LOCATION:Bahnhofstraße 8, 74677 Dörzbach
DESCRIPTION:Weitere Informationen: https://jagsttalbahn.de/termine/diesel-fahrtag-zur-jagsttal-wiesen-wanderung
END:VEVENT
END:VCALENDAR