BEGIN:VCALENDAR
VERSION:2.0
PRODID:-//Jagsttalbahn//Termine//DE
CALSCALE:GREGORIAN
BEGIN:VEVENT
UID:diesel-fahrtag-september@jagsttalbahn.de
DTSTAMP:20260420T110948Z
DTSTART:20260913T090000Z
DTEND:20260913T150000Z
SUMMARY:Diesel-Fahrtag
LOCATION:Bahnhofstraße 8, 74677 Dörzbach
DESCRIPTION:Weitere Informationen: https://jagsttalbahn.de/termine/diesel-fahrtag-september
END:VEVENT
END:VCALENDAR