BEGIN:VCALENDAR
VERSION:2.0
PRODID:-//Jagsttalbahn//Termine//DE
CALSCALE:GREGORIAN
BEGIN:VEVENT
UID:diesel-fahrtag-juni@jagsttalbahn.de
DTSTAMP:20260420T110841Z
DTSTART:20260614T090000Z
DTEND:20260614T150000Z
SUMMARY:Diesel-Fahrtag
LOCATION:Bahnhofstraße 8, 74677 Dörzbach
DESCRIPTION:Weitere Informationen: https://jagsttalbahn.de/termine/diesel-fahrtag-juni
END:VEVENT
END:VCALENDAR