BEGIN:VCALENDAR
VERSION:2.0
PRODID:-//Jagsttalbahn//Termine//DE
CALSCALE:GREGORIAN
BEGIN:VEVENT
UID:diesel-fahrtag-juli@jagsttalbahn.de
DTSTAMP:20260420T110929Z
DTSTART:20260712T090000Z
DTEND:20260712T150000Z
SUMMARY:Diesel-Fahrtag
LOCATION:Bahnhofstraße 8, 74677 Dörzbach
DESCRIPTION:Weitere Informationen: https://jagsttalbahn.de/termine/diesel-fahrtag-juli
END:VEVENT
END:VCALENDAR