BEGIN:VCALENDAR
VERSION:2.0
PRODID:-//Jagsttalbahn//Termine//DE
CALSCALE:GREGORIAN
BEGIN:VEVENT
UID:diesel-fahrtag-august@jagsttalbahn.de
DTSTAMP:20260420T110930Z
DTSTART:20260809T090000Z
DTEND:20260809T150000Z
SUMMARY:Diesel-Fahrtag
LOCATION:Bahnhofstraße 8, 74677 Dörzbach
DESCRIPTION:Weitere Informationen: https://jagsttalbahn.de/termine/diesel-fahrtag-august
END:VEVENT
END:VCALENDAR