BEGIN:VCALENDAR
VERSION:2.0
PRODID:-//Jagsttalbahn//Termine//DE
CALSCALE:GREGORIAN
BEGIN:VEVENT
UID:dampf-fahrtag-mit-frank-s-2@jagsttalbahn.de
DTSTAMP:20260420T110947Z
DTSTART:20260419T090000Z
DTEND:20260419T150000Z
SUMMARY:Dampf-Fahrtag mit Frank S
LOCATION:Bahnhofstraße 8, 74677 Dörzbach
DESCRIPTION:Weitere Informationen: https://jagsttalbahn.de/termine/dampf-fahrtag-mit-frank-s-2
END:VEVENT
END:VCALENDAR